BEGIN:VCALENDAR
VERSION:2.0
PRODID:-//ExpressionEngine Easy iCalendar plugin//NONSGML v2.0.1//EN
X-WR-TIMEZONE:America/Chicago
X-WR-CALNAME:Upcoming Auctions
BEGIN:VEVENT
UID:12865
DTSTAMP:20170803T180000
DTSTART:20170803T180000
DTEND:20170808T180000
SUMMARY:Online Moving Auction - Brenham\, TX
LOCATION:Old Mill Creek Road\, Brenham\, TX 77833\, US
DESCRIPTION:Furniture\, Western Items\, Tools\, Aviation Supplies & MORE!
URL:https://www.buckupauctions.com/auctions/detail/online-moving
 -auction-brenham-tx-bw12865
SEQUENCE:1
END:VEVENT
END:VCALENDAR