BEGIN:VCALENDAR
VERSION:2.0
PRODID:-//ExpressionEngine Easy iCalendar plugin//NONSGML v2.0.0//EN
X-WR-TIMEZONE:America/Chicago
X-WR-CALNAME:Upcoming Auctions
BEGIN:VEVENT
UID:144384
DTSTAMP:20250808T180000
DTSTART:20250808T180000
DTEND:20250824T180000
SUMMARY:Warrenton Online Auction
LOCATION:{location}
DESCRIPTION:Warrenton OnlineÂ AuctionÂ  Auction opens for bidding: Augus
 t 8\, 2025 at 6PM Auction BEGINS closing: August 24\, 2025 at 
 6PM at 3 lots per minute with 1 minute auto-extend Preview:Â
  By appointment only Removal Dates & Times:Â By appointment 
 only: August 25thÂ from 10 am to 6pm and 26thÂ from 10amÂ to
  6pm. Appointment times will be scheduled with each individu
 al buyer.Â  Removal Note:Â There Will Be No Manpower\, No Emp
 loyee Assistance Or Equipment Available For Removal. Buyer M
 ust Remove All Lots In Their Entirety.Â Buyer Is Solely Resp
 onsible For Loading & Unloading\, Bring Own Manpower\, Equipme
 nt\, Dollies Or Other Adequate Moving Devices or Equipment\, E
 tc. To Remove Items. Buyer Must Have Adequate Transportation
  To Move Purchased Items. Heather Kaspar TDLR #17037 Â 
URL:https://www.buckupauctions.com/auctions/detail/bw144384
SEQUENCE:1
END:VEVENT
END:VCALENDAR